BEGIN:VCALENDAR
VERSION:2.0
PRODID:-//Scènes Croisées - ECPv6.15.20//NONSGML v1.0//EN
CALSCALE:GREGORIAN
METHOD:PUBLISH
X-WR-CALNAME:Scènes Croisées
X-ORIGINAL-URL:https://scenescroisees.fr
X-WR-CALDESC:Évènements pour Scènes Croisées
REFRESH-INTERVAL;VALUE=DURATION:PT1H
X-Robots-Tag:noindex
X-PUBLISHED-TTL:PT1H
BEGIN:VTIMEZONE
TZID:Europe/Paris
BEGIN:DAYLIGHT
TZOFFSETFROM:+0100
TZOFFSETTO:+0200
TZNAME:CEST
DTSTART:20250330T010000
END:DAYLIGHT
BEGIN:STANDARD
TZOFFSETFROM:+0200
TZOFFSETTO:+0100
TZNAME:CET
DTSTART:20251026T010000
END:STANDARD
BEGIN:DAYLIGHT
TZOFFSETFROM:+0100
TZOFFSETTO:+0200
TZNAME:CEST
DTSTART:20260329T010000
END:DAYLIGHT
BEGIN:STANDARD
TZOFFSETFROM:+0200
TZOFFSETTO:+0100
TZNAME:CET
DTSTART:20261025T010000
END:STANDARD
BEGIN:DAYLIGHT
TZOFFSETFROM:+0100
TZOFFSETTO:+0200
TZNAME:CEST
DTSTART:20270328T010000
END:DAYLIGHT
BEGIN:STANDARD
TZOFFSETFROM:+0200
TZOFFSETTO:+0100
TZNAME:CET
DTSTART:20271031T010000
END:STANDARD
END:VTIMEZONE
BEGIN:VEVENT
DTSTART;TZID=Europe/Paris:20260425T173000
DTEND;TZID=Europe/Paris:20260425T183000
DTSTAMP:20260422T153159
CREATED:20250724T120000Z
LAST-MODIFIED:20250723T083605Z
UID:74494-1777138200-1777141800@scenescroisees.fr
SUMMARY:Atelier chant avec Pascal Charrier
DESCRIPTION:
URL:https://scenescroisees.fr/evenement/atelier-chant-avec-pascal-charrier/
LOCATION:Vialas\, Village\, Vialas\, 48220\, France
CATEGORIES:Atelier
ATTACH;FMTTYPE=image/jpeg:https://scenescroisees.fr/wp-content/uploads/2025/07/diapo_atelier-4.jpg
END:VEVENT
BEGIN:VEVENT
DTSTART;TZID=Europe/Paris:20260425T190000
DTEND;TZID=Europe/Paris:20260425T194000
DTSTAMP:20260422T153159
CREATED:20250724T120000Z
LAST-MODIFIED:20250723T075605Z
UID:74235-1777143600-1777146000@scenescroisees.fr
SUMMARY:Petite montagne
DESCRIPTION:
URL:https://scenescroisees.fr/evenement/petite-montagne/
LOCATION:Vialas\, Salle du Temps libre\, Vialas\, 48220
CATEGORIES:Musique
ATTACH;FMTTYPE=image/jpeg:https://scenescroisees.fr/wp-content/uploads/2025/07/diapo_web-30.jpg
END:VEVENT
BEGIN:VEVENT
DTSTART;TZID=Europe/Paris:20260426T080000
DTEND;TZID=Europe/Paris:20260426T120000
DTSTAMP:20260422T153159
CREATED:20250724T120000Z
LAST-MODIFIED:20250723T083521Z
UID:74501-1777190400-1777204800@scenescroisees.fr
SUMMARY:Balade à cheval avec Pascal Charrier
DESCRIPTION:
URL:https://scenescroisees.fr/evenement/balade-a-cheval-avec-pascal-charrier/
LOCATION:Vialas\, Salle du Temps libre\, Vialas\, 48220
CATEGORIES:Balade à cheval
ATTACH;FMTTYPE=image/jpeg:https://scenescroisees.fr/wp-content/uploads/2025/07/diapo_balade.jpg
END:VEVENT
BEGIN:VEVENT
DTSTART;TZID=Europe/Paris:20260426T163000
DTEND;TZID=Europe/Paris:20260426T170000
DTSTAMP:20260422T153159
CREATED:20250724T120000Z
LAST-MODIFIED:20250723T083439Z
UID:74508-1777221000-1777222800@scenescroisees.fr
SUMMARY:Conversation croisée sur l’agropastoralisme
DESCRIPTION:
URL:https://scenescroisees.fr/evenement/conversation-croisee-sur-lagropastoralisme/
LOCATION:Masméjean\, Masméjean\, 48220\, France
CATEGORIES:Conversation
ATTACH;FMTTYPE=image/jpeg:https://scenescroisees.fr/wp-content/uploads/2025/07/diapo_pasto.jpg
END:VEVENT
BEGIN:VEVENT
DTSTART;TZID=Europe/Paris:20260426T170000
DTEND;TZID=Europe/Paris:20260426T174500
DTSTAMP:20260422T153159
CREATED:20250724T120000Z
LAST-MODIFIED:20250723T075622Z
UID:74237-1777222800-1777225500@scenescroisees.fr
SUMMARY:Petite montagne
DESCRIPTION:
URL:https://scenescroisees.fr/evenement/petite-montagne-2/
LOCATION:Masméjean\, Masméjean\, 48220\, France
CATEGORIES:Musique
ATTACH;FMTTYPE=image/jpeg:https://scenescroisees.fr/wp-content/uploads/2025/07/diapo_web-30.jpg
END:VEVENT
BEGIN:VEVENT
DTSTART;TZID=Europe/Paris:20260505T203000
DTEND;TZID=Europe/Paris:20260505T220000
DTSTAMP:20260422T153159
CREATED:20250724T120000Z
LAST-MODIFIED:20250723T075833Z
UID:74246-1778013000-1778018400@scenescroisees.fr
SUMMARY:Larzac !
DESCRIPTION:
URL:https://scenescroisees.fr/evenement/larzac-4/
LOCATION:Grèzes\, Grèzes\, 48100\, France
CATEGORIES:Théâtre
ATTACH;FMTTYPE=image/jpeg:https://scenescroisees.fr/wp-content/uploads/2025/07/diapo_web-31.jpg
END:VEVENT
BEGIN:VEVENT
DTSTART;TZID=Europe/Paris:20260506T203000
DTEND;TZID=Europe/Paris:20260506T220000
DTSTAMP:20260422T153159
CREATED:20250724T120000Z
LAST-MODIFIED:20250723T075820Z
UID:74250-1778099400-1778104800@scenescroisees.fr
SUMMARY:Larzac !
DESCRIPTION:
URL:https://scenescroisees.fr/evenement/larzac-3/
LOCATION:Maison du Mont-Lozère\, Maison du Mont-Lozère\, Le Pont-de-Montvert\, 48220
CATEGORIES:Théâtre
ATTACH;FMTTYPE=image/jpeg:https://scenescroisees.fr/wp-content/uploads/2025/07/diapo_web-31.jpg
END:VEVENT
BEGIN:VEVENT
DTSTART;TZID=Europe/Paris:20260507T203000
DTEND;TZID=Europe/Paris:20260507T220000
DTSTAMP:20260422T153159
CREATED:20250724T120000Z
LAST-MODIFIED:20250723T075805Z
UID:74252-1778185800-1778191200@scenescroisees.fr
SUMMARY:Larzac !
DESCRIPTION:
URL:https://scenescroisees.fr/evenement/larzac-2/
LOCATION:Saint-Etienne-vallée-française\, Saint-Etienne-vallée-française\, 48330\, France
CATEGORIES:Théâtre
ATTACH;FMTTYPE=image/jpeg:https://scenescroisees.fr/wp-content/uploads/2025/07/diapo_web-31.jpg
END:VEVENT
BEGIN:VEVENT
DTSTART;TZID=Europe/Paris:20260508T203000
DTEND;TZID=Europe/Paris:20260508T220000
DTSTAMP:20260422T153159
CREATED:20250724T120000Z
LAST-MODIFIED:20250723T075748Z
UID:74255-1778272200-1778277600@scenescroisees.fr
SUMMARY:Larzac !
DESCRIPTION:
URL:https://scenescroisees.fr/evenement/larzac/
LOCATION:Saint-Michel-de-Dèze\, Saint-Michel-de-Dèze\, 48160\, France
CATEGORIES:Théâtre
ATTACH;FMTTYPE=image/jpeg:https://scenescroisees.fr/wp-content/uploads/2025/07/diapo_web-31.jpg
END:VEVENT
BEGIN:VEVENT
DTSTART;TZID=Europe/Paris:20260515T100000
DTEND;TZID=Europe/Paris:20260515T130000
DTSTAMP:20260422T153159
CREATED:20250724T120000Z
LAST-MODIFIED:20260407T132243Z
UID:74514-1778839200-1778850000@scenescroisees.fr
SUMMARY:Atelier chorégraphique en forêt
DESCRIPTION:
URL:https://scenescroisees.fr/evenement/atelier-choregraphique-en-foret/
LOCATION:Le Bleymard\, Le Bleymard\, 48190
CATEGORIES:Atelier
ATTACH;FMTTYPE=image/jpeg:https://scenescroisees.fr/wp-content/uploads/2025/07/diapo_atelier-5.jpg
END:VEVENT
BEGIN:VEVENT
DTSTART;TZID=Europe/Paris:20260515T204500
DTEND;TZID=Europe/Paris:20260515T214500
DTSTAMP:20260422T153159
CREATED:20250724T120000Z
LAST-MODIFIED:20260324T113400Z
UID:74263-1778877900-1778881500@scenescroisees.fr
SUMMARY:Wi * La peau des arbres
DESCRIPTION:
URL:https://scenescroisees.fr/evenement/wi-la-peau-des-arbres/
LOCATION:Forêt du Goulet\, Forêt Domaniale du Goulet\, Mont-Lozère-et-Goulet\, 48250\, France
CATEGORIES:Danse en forêt
ATTACH;FMTTYPE=image/jpeg:https://scenescroisees.fr/wp-content/uploads/2025/07/diapo_web-32.jpg
END:VEVENT
BEGIN:VEVENT
DTSTART;TZID=Europe/Paris:20260520T190000
DTEND;TZID=Europe/Paris:20260520T200000
DTSTAMP:20260422T153159
CREATED:20250724T120000Z
LAST-MODIFIED:20250723T081019Z
UID:74271-1779303600-1779307200@scenescroisees.fr
SUMMARY:Pères
DESCRIPTION:
URL:https://scenescroisees.fr/evenement/peres/
LOCATION:Le Massegros\, Salle polyvalente\, Le Massegros\, 48500
CATEGORIES:Théâtre
ATTACH;FMTTYPE=image/jpeg:https://scenescroisees.fr/wp-content/uploads/2025/07/diapo_web-33.jpg
END:VEVENT
BEGIN:VEVENT
DTSTART;TZID=Europe/Paris:20260521T200000
DTEND;TZID=Europe/Paris:20260521T210000
DTSTAMP:20260422T153159
CREATED:20250724T120000Z
LAST-MODIFIED:20250723T081046Z
UID:74273-1779393600-1779397200@scenescroisees.fr
SUMMARY:Pères
DESCRIPTION:
URL:https://scenescroisees.fr/evenement/peres-3/
LOCATION:Villefort\, Salle polyvalente\, Villefort\, 48800
CATEGORIES:Théâtre
ATTACH;FMTTYPE=image/jpeg:https://scenescroisees.fr/wp-content/uploads/2025/07/diapo_web-33.jpg
END:VEVENT
BEGIN:VEVENT
DTSTART;TZID=Europe/Paris:20260522T200000
DTEND;TZID=Europe/Paris:20260522T210000
DTSTAMP:20260422T153159
CREATED:20250724T120000Z
LAST-MODIFIED:20250723T081034Z
UID:74275-1779480000-1779483600@scenescroisees.fr
SUMMARY:Pères
DESCRIPTION:
URL:https://scenescroisees.fr/evenement/peres-2/
LOCATION:Blajoux\, Blajoux\, 48320\, France
CATEGORIES:Théâtre
ATTACH;FMTTYPE=image/jpeg:https://scenescroisees.fr/wp-content/uploads/2025/07/diapo_web-33.jpg
END:VEVENT
BEGIN:VEVENT
DTSTART;TZID=Europe/Paris:20260530T100000
DTEND;TZID=Europe/Paris:20260530T200000
DTSTAMP:20260422T153159
CREATED:20250724T120000Z
LAST-MODIFIED:20260407T132347Z
UID:74314-1780135200-1780171200@scenescroisees.fr
SUMMARY:Sur les Chemins
DESCRIPTION:
URL:https://scenescroisees.fr/evenement/sur-les-chemins/
LOCATION:Saint-Alban-sur-Limagnole\, Saint-Alban-sur-Limagnole\, 48210
CATEGORIES:Carte blanche
ATTACH;FMTTYPE=image/jpeg:https://scenescroisees.fr/wp-content/uploads/2025/07/diapo_xeb.jpg
END:VEVENT
BEGIN:VEVENT
DTSTART;TZID=Europe/Paris:20260603T183000
DTEND;TZID=Europe/Paris:20260603T193000
DTSTAMP:20260422T153159
CREATED:20250724T120000Z
LAST-MODIFIED:20250723T081250Z
UID:74290-1780511400-1780515000@scenescroisees.fr
SUMMARY:J'ai RDV avec Héloïse Desrivières
DESCRIPTION:
URL:https://scenescroisees.fr/evenement/jai-rdv-avec-heloise-desrivieres/
LOCATION:La Loco-Motive 48\, 12 Rue de la Gleyzette\, Villefort\, 48800\, France
CATEGORIES:Lecture
ATTACH;FMTTYPE=image/jpeg:https://scenescroisees.fr/wp-content/uploads/2025/07/diapo_web-34.jpg
END:VEVENT
BEGIN:VEVENT
DTSTART;TZID=Europe/Paris:20260606T203000
DTEND;TZID=Europe/Paris:20260606T213000
DTSTAMP:20260422T153159
CREATED:20250724T120000Z
LAST-MODIFIED:20250723T081342Z
UID:74296-1780777800-1780781400@scenescroisees.fr
SUMMARY:UBIC
DESCRIPTION:
URL:https://scenescroisees.fr/evenement/ubic/
LOCATION:Bagnols-les-bains\, Théâtre O(l)tto Ladusch\, Bagnols-les-bains\, 48190
CATEGORIES:Musique
ATTACH;FMTTYPE=image/jpeg:https://scenescroisees.fr/wp-content/uploads/2025/07/diapo_web-35.jpg
END:VEVENT
BEGIN:VEVENT
DTSTART;TZID=Europe/Paris:20260607T103000
DTEND;TZID=Europe/Paris:20260607T123000
DTSTAMP:20260422T153159
CREATED:20250724T120000Z
LAST-MODIFIED:20250723T083309Z
UID:74520-1780828200-1780835400@scenescroisees.fr
SUMMARY:Atelier adulte-enfant techno & gourmandise
DESCRIPTION:
URL:https://scenescroisees.fr/evenement/atelier-adulte-enfant-techno-gourmandise/
LOCATION:Bagnols-les-bains\, Théâtre O(l)tto Ladusch\, Bagnols-les-bains\, 48190
CATEGORIES:Atelier
ATTACH;FMTTYPE=image/jpeg:https://scenescroisees.fr/wp-content/uploads/2025/07/brunch_.jpg
END:VEVENT
BEGIN:VEVENT
DTSTART;TZID=Europe/Paris:20260619T213000
DTEND;TZID=Europe/Paris:20260619T224000
DTSTAMP:20260422T153159
CREATED:20250724T120000Z
LAST-MODIFIED:20250723T082148Z
UID:74306-1781904600-1781908800@scenescroisees.fr
SUMMARY:Déployer la nuit
DESCRIPTION:
URL:https://scenescroisees.fr/evenement/deployer-la-nuit-2/
LOCATION:Saint-Privat-de-Vallongue\, Temple\, La Combe\, Saint-Privat-de-Vallongue\, 48240\, France
CATEGORIES:Musique
ATTACH;FMTTYPE=image/jpeg:https://scenescroisees.fr/wp-content/uploads/2025/07/diapoweb-1.jpg
END:VEVENT
BEGIN:VEVENT
DTSTART;TZID=Europe/Paris:20260620T000000
DTEND;TZID=Europe/Paris:20260620T000100
DTSTAMP:20260422T153159
CREATED:20250724T120000Z
LAST-MODIFIED:20250723T083058Z
UID:74674-1781913600-1781913660@scenescroisees.fr
SUMMARY:Animation sur les papillons de nuit
DESCRIPTION:
URL:https://scenescroisees.fr/evenement/animation-sur-les-papillons-de-nuit/
LOCATION:La Condamine\, La Condamine\, Gorges-du-Tarn-Causses\, 48210\, France
CATEGORIES:Découverte
ATTACH;FMTTYPE=image/jpeg:https://scenescroisees.fr/wp-content/uploads/2025/07/diapo_papillon.jpg
END:VEVENT
BEGIN:VEVENT
DTSTART;TZID=Europe/Paris:20260620T173000
DTEND;TZID=Europe/Paris:20260620T193000
DTSTAMP:20260422T153159
CREATED:20250724T120000Z
LAST-MODIFIED:20250723T083201Z
UID:74526-1781976600-1781983800@scenescroisees.fr
SUMMARY:Balade sensible à la découverte des paysages
DESCRIPTION:
URL:https://scenescroisees.fr/evenement/balade-sensible-a-la-decouverte-des-paysages/
LOCATION:La Condamine\, La Condamine\, Gorges-du-Tarn-Causses\, 48210\, France
ATTACH;FMTTYPE=image/jpeg:https://scenescroisees.fr/wp-content/uploads/2025/07/diapo_balade-1.jpg
END:VEVENT
BEGIN:VEVENT
DTSTART;TZID=Europe/Paris:20260620T213000
DTEND;TZID=Europe/Paris:20260620T224000
DTSTAMP:20260422T153159
CREATED:20250724T120000Z
LAST-MODIFIED:20250723T082136Z
UID:74308-1781991000-1781995200@scenescroisees.fr
SUMMARY:Déployer la nuit
DESCRIPTION:
URL:https://scenescroisees.fr/evenement/deployer-la-nuit/
LOCATION:La Condamine\, La Condamine\, Gorges-du-Tarn-Causses\, 48210\, France
CATEGORIES:Musique
ATTACH;FMTTYPE=image/jpeg:https://scenescroisees.fr/wp-content/uploads/2025/07/diapoweb-1.jpg
END:VEVENT
BEGIN:VEVENT
DTSTART;TZID=Europe/Paris:20260627T180000
DTEND;TZID=Europe/Paris:20260627T200000
DTSTAMP:20260422T153159
CREATED:20250825T114251Z
LAST-MODIFIED:20250825T114252Z
UID:74535-1782583200-1782590400@scenescroisees.fr
SUMMARY:4x4
DESCRIPTION:
URL:https://scenescroisees.fr/evenement/4x4/
LOCATION:Magnanerie de la Roque\, Molezon\, 48110\, France
CATEGORIES:Résidence
ATTACH;FMTTYPE=image/jpeg:https://scenescroisees.fr/wp-content/uploads/2025/07/diapo_web-41.jpg
END:VEVENT
END:VCALENDAR